BEGIN:VCALENDAR
VERSION:2.0
PRODID:-//Agri-Dynamics LLC - ECPv6.15.20//NONSGML v1.0//EN
CALSCALE:GREGORIAN
METHOD:PUBLISH
X-WR-CALNAME:Agri-Dynamics LLC
X-ORIGINAL-URL:https://agri-dynamicsllc.com
X-WR-CALDESC:Events for Agri-Dynamics LLC
REFRESH-INTERVAL;VALUE=DURATION:PT1H
X-Robots-Tag:noindex
X-PUBLISHED-TTL:PT1H
BEGIN:VTIMEZONE
TZID:America/Chicago
BEGIN:DAYLIGHT
TZOFFSETFROM:-0600
TZOFFSETTO:-0500
TZNAME:CDT
DTSTART:20230312T080000
END:DAYLIGHT
BEGIN:STANDARD
TZOFFSETFROM:-0500
TZOFFSETTO:-0600
TZNAME:CST
DTSTART:20231105T070000
END:STANDARD
BEGIN:DAYLIGHT
TZOFFSETFROM:-0600
TZOFFSETTO:-0500
TZNAME:CDT
DTSTART:20240310T080000
END:DAYLIGHT
BEGIN:STANDARD
TZOFFSETFROM:-0500
TZOFFSETTO:-0600
TZNAME:CST
DTSTART:20241103T070000
END:STANDARD
BEGIN:DAYLIGHT
TZOFFSETFROM:-0600
TZOFFSETTO:-0500
TZNAME:CDT
DTSTART:20250309T080000
END:DAYLIGHT
BEGIN:STANDARD
TZOFFSETFROM:-0500
TZOFFSETTO:-0600
TZNAME:CST
DTSTART:20251102T070000
END:STANDARD
BEGIN:DAYLIGHT
TZOFFSETFROM:-0600
TZOFFSETTO:-0500
TZNAME:CDT
DTSTART:20260308T080000
END:DAYLIGHT
BEGIN:STANDARD
TZOFFSETFROM:-0500
TZOFFSETTO:-0600
TZNAME:CST
DTSTART:20261101T070000
END:STANDARD
END:VTIMEZONE
BEGIN:VEVENT
DTSTART;VALUE=DATE:20250320
DTEND;VALUE=DATE:20250323
DTSTAMP:20260425T074724
CREATED:20240105T204916Z
LAST-MODIFIED:20240925T194807Z
UID:1349-1742428800-1742687999@agri-dynamicsllc.com
SUMMARY:North American Farm and Power Show
DESCRIPTION:Booth # 53 & 53
URL:https://agri-dynamicsllc.com/event/north-american-farm-and-power-show/
LOCATION:Steel County Fair Grounds/Four Season Centre\, 1525 S Elm Ave\, Owatonna\, MN\, 55060
END:VEVENT
BEGIN:VEVENT
DTSTART;VALUE=DATE:20250301
DTEND;VALUE=DATE:20250305
DTSTAMP:20260425T074724
CREATED:20240105T204709Z
LAST-MODIFIED:20240925T194720Z
UID:1345-1740787200-1741132799@agri-dynamicsllc.com
SUMMARY:Commodity Classic
DESCRIPTION:Booth #2009
URL:https://agri-dynamicsllc.com/event/commodity-classic/
LOCATION:George R Brown Convention Center\, 1001 Avenida De Las Americas\, Houston\, TX\, 77010
END:VEVENT
BEGIN:VEVENT
DTSTART;VALUE=DATE:20250124
DTEND;VALUE=DATE:20250126
DTSTAMP:20260425T074724
CREATED:20240105T204044Z
LAST-MODIFIED:20240925T194517Z
UID:1335-1737676800-1737849599@agri-dynamicsllc.com
SUMMARY:Sioux Falls Farm Show
DESCRIPTION:Booth #1415
URL:https://agri-dynamicsllc.com/event/sioux-falls-farm-show/
LOCATION:Denny Sanford Premier Center\, 1021 N W Ave\, Sioux Falls\, SD\, 57104
END:VEVENT
BEGIN:VEVENT
DTSTART;VALUE=DATE:20250103
DTEND;VALUE=DATE:20250106
DTSTAMP:20260425T074724
CREATED:20240925T194244Z
LAST-MODIFIED:20240925T194244Z
UID:1805-1735862400-1736121599@agri-dynamicsllc.com
SUMMARY:Dakota Farm Show
DESCRIPTION:Booth #435 & 455
URL:https://agri-dynamicsllc.com/event/dakota-farm-show/
LOCATION:IA
END:VEVENT
BEGIN:VEVENT
DTSTART;VALUE=DATE:20241210
DTEND;VALUE=DATE:20241213
DTSTAMP:20260425T074724
CREATED:20240925T194158Z
LAST-MODIFIED:20240925T194158Z
UID:1804-1733788800-1734047999@agri-dynamicsllc.com
SUMMARY:Nebraska Ag Expo
DESCRIPTION:Booth # 1129
URL:https://agri-dynamicsllc.com/event/nebraska-ag-expo/
LOCATION:IA
END:VEVENT
BEGIN:VEVENT
DTSTART;VALUE=DATE:20241205
DTEND;VALUE=DATE:20241206
DTSTAMP:20260425T074724
CREATED:20240925T194038Z
LAST-MODIFIED:20240925T194038Z
UID:1803-1733356800-1733443199@agri-dynamicsllc.com
SUMMARY:Ag Outlook
DESCRIPTION:
URL:https://agri-dynamicsllc.com/event/ag-outlook/
LOCATION:IA
END:VEVENT
BEGIN:VEVENT
DTSTART;VALUE=DATE:20241120
DTEND;VALUE=DATE:20241122
DTSTAMP:20260425T074724
CREATED:20240925T193953Z
LAST-MODIFIED:20240925T193953Z
UID:1801-1732060800-1732233599@agri-dynamicsllc.com
SUMMARY:Gateway Farm Expo
DESCRIPTION:Booth #9&10
URL:https://agri-dynamicsllc.com/event/gateway-farm-expo/
LOCATION:Kearney\, NE
END:VEVENT
BEGIN:VEVENT
DTSTART;VALUE=DATE:20240404
DTEND;VALUE=DATE:20240407
DTSTAMP:20260425T074724
CREATED:20240105T205026Z
LAST-MODIFIED:20240105T205026Z
UID:1351-1712188800-1712447999@agri-dynamicsllc.com
SUMMARY:Oklahoma City Farm Show
DESCRIPTION:
URL:https://agri-dynamicsllc.com/event/oklahoma-city-farm-show/
LOCATION:Bennett Event Center OKC Fairgrounds\, 3101 Gordon Cooper Blvd\, Oklahoma City\, OK\, 73107
END:VEVENT
BEGIN:VEVENT
DTSTART;VALUE=DATE:20240306
DTEND;VALUE=DATE:20240311
DTSTAMP:20260425T074724
CREATED:20240105T204825Z
LAST-MODIFIED:20240105T204825Z
UID:1347-1709683200-1710115199@agri-dynamicsllc.com
SUMMARY:ND Winter Show
DESCRIPTION:
URL:https://agri-dynamicsllc.com/event/nd-winter-show/
LOCATION:ND Winter Show Events Center\, 700 7th St SE\, Valley City\, ND\, 58072
END:VEVENT
BEGIN:VEVENT
DTSTART;VALUE=DATE:20240227
DTEND;VALUE=DATE:20240301
DTSTAMP:20260425T074724
CREATED:20240105T204606Z
LAST-MODIFIED:20240105T205300Z
UID:1343-1708992000-1709251199@agri-dynamicsllc.com
SUMMARY:Hawkeye Farm Show
DESCRIPTION:
URL:https://agri-dynamicsllc.com/event/hawkeye-farm-show/
LOCATION:UNI-Dome\, Hudson Road\, Cedar Falls\, IA\, 50614
END:VEVENT
BEGIN:VEVENT
DTSTART;VALUE=DATE:20240227
DTEND;VALUE=DATE:20240229
DTSTAMP:20260425T074724
CREATED:20240105T204340Z
LAST-MODIFIED:20240105T204413Z
UID:1339-1708992000-1709164799@agri-dynamicsllc.com
SUMMARY:Central MN Farm Show
DESCRIPTION:
URL:https://agri-dynamicsllc.com/event/central-mn-farm-show/
LOCATION:Rivers Edge Convention Center\, 104th Ave South\, St Cloud\, MN\, 56301
END:VEVENT
BEGIN:VEVENT
DTSTART;VALUE=DATE:20240223
DTEND;VALUE=DATE:20240226
DTSTAMP:20260425T074724
CREATED:20240105T204519Z
LAST-MODIFIED:20240105T204519Z
UID:1341-1708646400-1708905599@agri-dynamicsllc.com
SUMMARY:Western Farm Show
DESCRIPTION:
URL:https://agri-dynamicsllc.com/event/western-farm-show/
LOCATION:American Royal Complex\, 1701 Amerian Royal Court\, Kansas City\, MO\, 64102
END:VEVENT
BEGIN:VEVENT
DTSTART;VALUE=DATE:20240130
DTEND;VALUE=DATE:20250202
DTSTAMP:20260425T074724
CREATED:20250130T204256Z
LAST-MODIFIED:20240925T194618Z
UID:1337-1706572800-1738454399@agri-dynamicsllc.com
SUMMARY:Iowa Ag Expo
DESCRIPTION:
URL:https://agri-dynamicsllc.com/event/iowa-ag-expo/
LOCATION:Iowa Events Center\, 730 3rd St\, Des Moines\, IA\, 50309
END:VEVENT
BEGIN:VEVENT
DTSTART;VALUE=DATE:20240124
DTEND;VALUE=DATE:20240127
DTSTAMP:20260425T074724
CREATED:20240105T203904Z
LAST-MODIFIED:20240105T203904Z
UID:1333-1706054400-1706313599@agri-dynamicsllc.com
SUMMARY:KMOT AG Expo
DESCRIPTION:
URL:https://agri-dynamicsllc.com/event/kmot-ag-expo/
LOCATION:ND State Fair Center\, 2005 Burdick Expressway\, Minot\, ND\, 58701
END:VEVENT
END:VCALENDAR